BEGIN:VCALENDAR
VERSION:2.0
PRODID:-//ChamberMaster//Event Calendar 2.0//EN
METHOD:PUBLISH
X-PUBLISHED-TTL:P3D
REFRESH-INTERVAL:P3D
CALSCALE:GREGORIAN
BEGIN:VEVENT
DTSTART:20200205T150000Z
DTEND:20200205T153000Z
X-MICROSOFT-CDO-ALLDAYEVENT:FALSE
SUMMARY:Rooms For Less Quality Service Award - Hopkinsville Police Department
DESCRIPTION:Please join us for the Rooms For Less Quality Service Award presented to Hopkinsville Police Department.
X-ALT-DESC;FMTTYPE=text/html:Please join us for the Rooms For Less Quality Service Award presented to Hopkinsville Police Department.
LOCATION:101 N Main Street Hopkinsville\, KY
UID:e.1358.12976
SEQUENCE:3
DTSTAMP:20260425T001144Z
URL:https://business.christiancountychamber.com/events/details/rooms-for-less-quality-service-award-hopkinsville-police-department-12976
END:VEVENT

END:VCALENDAR
