BEGIN:VCALENDAR
VERSION:2.0
PRODID:-//ChamberMaster//Event Calendar 2.0//EN
METHOD:PUBLISH
X-PUBLISHED-TTL:P3D
REFRESH-INTERVAL:P3D
CALSCALE:GREGORIAN
BEGIN:VEVENT
DTSTART:20200211T230000Z
DTEND:20200212T000000Z
X-MICROSOFT-CDO-ALLDAYEVENT:FALSE
SUMMARY:EPIC Hour
DESCRIPTION:Kids Club (5-7)\, be*Tween (8-12)\, Teen Time (13-18)\, 3 programs for 3 ages all in one night! Activities vary from week to week. Check our Facebook page for further details.
X-ALT-DESC;FMTTYPE=text/html:Kids Club (5-7)\, be*Tween (8-12)\, Teen Time (13-18)\,&nbsp\;<span style="background-color:rgb(255\, 255\, 255)\; color:rgb(51\, 51\, 51)\; font-family:sans-serif\,arial\,verdana\,trebuchet ms\; font-size:13px">3 programs for 3 ages all in one night! Activities vary from week to week. Check our Facebook page for further details.</span>
LOCATION:Hopkinsville-Christian County Public Library 1101 Bethel Street Hopkinsville\, KY 42240
UID:e.1358.11716
SEQUENCE:3
DTSTAMP:20260420T113042Z
URL:https://business.christiancountychamber.com/events/details/epic-hour-02-11-2020-11716
END:VEVENT

END:VCALENDAR
